BEGIN:VCALENDAR
VERSION:2.0
PRODID:-//Curandero.love - ECPv6.15.18//NONSGML v1.0//EN
CALSCALE:GREGORIAN
METHOD:PUBLISH
X-ORIGINAL-URL:https://curandero.love
X-WR-CALDESC:Events for Curandero.love
REFRESH-INTERVAL;VALUE=DURATION:PT1H
X-Robots-Tag:noindex
X-PUBLISHED-TTL:PT1H
BEGIN:VTIMEZONE
TZID:UTC
BEGIN:STANDARD
TZOFFSETFROM:+0000
TZOFFSETTO:+0000
TZNAME:UTC
DTSTART:20240101T000000
END:STANDARD
END:VTIMEZONE
BEGIN:VEVENT
DTSTART;TZID=UTC:20251026T160000
DTEND;TZID=UTC:20251026T190000
DTSTAMP:20260419T192216
CREATED:20250928T131743Z
LAST-MODIFIED:20250928T131833Z
UID:7222-1761494400-1761505200@curandero.love
SUMMARY:DAH BRAZILA YUSHIBU 1
DESCRIPTION:Dah Brazila Yushibu 1 stepen \n\n\n“Duh Rapea ili Yushibu jeste iz prve jak kao duh divlje žene ali ako uspemo da ovladamo sa njim \nonda postaje jako prijatan i mio kao mlada devojka koja nas prati svuda i daje svoju snagu kada je potrebno“\nMastra Waxy Yawanawa\n \n\n26-og Oktobar se okupljamo u Beogradu u prostoru “Curandero studio ” \nKarađorđev trg 9 u 16h \n\n\nRapé  je sveti lek koji dolazi iz Brazila\,\nproizveden od strane starosedelačkih plemena džungle.\nDizajniran je da otvori vrata između psihičkog i duhovnog sveta \nkako bismo mogli da radimo na svojoj nameri\, \na oni koji ga primenjuju i koriste povezuju se s Velikim Duhom\, \nprimajući njegovu energiju zvanu “Yushibu”. \nMoć duha deluje poput snažnog talasa\, \nispirajući nečistoće iz našeg psiho-fizičkog polja. \n  \nRapé se smatra jednim od najjačih svetih lekova iz džungle koji se koriste kako za prevazilaženje fizičkih\, psihičkih i emocionalnih blokada\, tako i za sticanje ogromnih uvida u druge\, suptilnije svetove. Međutim\, bitno je da razumemo kako se pravilno odnositi prema ovom leku\, kako bismo mogli izvući maksimalnu korist od istog\, komunicirati sa njim uz najveće poštovanje i poštovati duh biljaka\, jer kako pristupamo njima tako pristupamo i nama ali i kako prilazimo njima tako i oni prilaze nama. \nRazumevanjem učenja i tradicija koje su prenete od amazonskih plemena možemo naučiti da koristimo jedan od njihovih najcjenjenijih lekova Rapé\, kako bismo komunicirali sa Duvanom na potpuno novom nivou. \nRapé se dobija od lekovitog bilja u prahu\, uglavnom na bazi Duvana. Postoje različite vrste istog i baziraju se na pepelu\, Duvanu\, lekovitim biljkama ili kombinaciji istih. Efekti Rapé-a se doživljavaju brzo jer se daje kroz nosdrve. Praksa konzumiranja biljnih lekova u prahu kroz nos je mnogo starija nego što smo mislili (datira iz predkolumbijskih dana) i prvi put je primećena među Brazilskim domorodačkim plemenima. U Evropu je Rapé uveo doktor i botaničar Francisco Hernández de Boncalo \n1577. godine – a tadašnja elita ga je često uzimala kao lek protiv glavobolje. Tokom XVIII veka\, konzumacija burmuta postala je moderna među evropskom aristokratijom. \n1 Stepen \n\n\nUvodno predavanje o medicini i radu sa njom. \nPredstavljanje pojmova i njihovo značenje.\n\nRad sa bojama\, simbolima Yawanawa naroda.\n\nUčenjee o svetom prostoru i o držanju prostora za sebe. \nUčenje molitvi Yawanawa plmena\, tj ikarose koji s koriste prilikom \nCeremonije isceljenja. \n\nSam proces inicijacije dizaniran je da učesnicima prenese znanje \nkako na najbolji način pristupiti ovom leku i kako dobiti najbolji \nbenefit iz interakcije sa istim.\n \nUčenje kako i na koliko različitih načina možemo samoaplicirati ovaj lek \nKoji su benefiti svake od soplada (samoaplikacija).\nSVAKI POLAZNIK DOBIJA PDF udzbenik o ovom leku kako bi im koristio dalje u radu i praksi \n\n\nCena učešća na ovom događaju je 50 eura (6000 RSD) \n\nS ljubavlju \nIvan Curandero \n\nBroj mesta je ograničen \n\n\nSve prijave slati na \nLink za prijavu\n\n\n\n\nPuno srdačnih pozdrava \nIvan Curandero  
URL:https://curandero.love/event/dah-brazila-yushibu-1-2/
LOCATION:Curandero.center\, Karađorđev trg 9\, Belgrade\, Belgrade\, 11080\, Serbia
ORGANIZER;CN="Ivan Nikitovic":MAILTO:curandero.shop@gmail.com
END:VEVENT
END:VCALENDAR