BEGIN:VCALENDAR
VERSION:2.0
PRODID:-//Curandero.love - ECPv6.15.18//NONSGML v1.0//EN
CALSCALE:GREGORIAN
METHOD:PUBLISH
X-ORIGINAL-URL:https://curandero.love/sr
X-WR-CALDESC:Events for Curandero.love
REFRESH-INTERVAL;VALUE=DURATION:PT1H
X-Robots-Tag:noindex
X-PUBLISHED-TTL:PT1H
BEGIN:VTIMEZONE
TZID:Europe/Belgrade
BEGIN:DAYLIGHT
TZOFFSETFROM:+0100
TZOFFSETTO:+0200
TZNAME:CEST
DTSTART:20250330T010000
END:DAYLIGHT
BEGIN:STANDARD
TZOFFSETFROM:+0200
TZOFFSETTO:+0100
TZNAME:CET
DTSTART:20251026T010000
END:STANDARD
BEGIN:DAYLIGHT
TZOFFSETFROM:+0100
TZOFFSETTO:+0200
TZNAME:CEST
DTSTART:20260329T010000
END:DAYLIGHT
BEGIN:STANDARD
TZOFFSETFROM:+0200
TZOFFSETTO:+0100
TZNAME:CET
DTSTART:20261025T010000
END:STANDARD
BEGIN:DAYLIGHT
TZOFFSETFROM:+0100
TZOFFSETTO:+0200
TZNAME:CEST
DTSTART:20270328T010000
END:DAYLIGHT
BEGIN:STANDARD
TZOFFSETFROM:+0200
TZOFFSETTO:+0100
TZNAME:CET
DTSTART:20271031T010000
END:STANDARD
END:VTIMEZONE
BEGIN:VEVENT
DTSTART;TZID=Europe/Belgrade:20260227T180000
DTEND;TZID=Europe/Belgrade:20260227T200000
DTSTAMP:20260423T193625
CREATED:20260224T131936Z
LAST-MODIFIED:20260224T131936Z
UID:8666-1772215200-1772222400@curandero.love
SUMMARY:ZVUČNO PUTOVANJE (SOUND JOURNEY)
DESCRIPTION:iscjeljivanje zvukom\n\n\n\n\n\n  \n\n\nIsceljivanje zvukom – iskustvo dubokog mira i obnoveZvuk i vibracija imaju moć da otapaju napetost i otključavaju osećaj unutrašnjeg mira. Gong kupke i zvučni tretmani pružaju priliku da uđete u stanje dubokog opuštanja\, u kojem telo i um prirodno pronalaze ravnotežu i započinju proces obnove.Moguće dobrobiti zvučnih tretmana:– smanjenje stresa i napetosti– ublažavanje anksioznosti– bolji i mirniji san– oslobađanje emocionalnih blokada– poboljšano raspoloženje i fokus– mentalna jasnoća i kreativni uvidi– duboka fizička regeneracija– iskustvo unutrašnjeg mira i harmonijeNa fiziološkom nivou\, tokom zvučne kupke usporavaju se otkucaji srca i disanje\, aktivira se parasimpatički nervni sistem\, a istraživanja ukazuju i na povećanje nivoa azot-monoksida u krvi – molekula važnog za cirkulaciju\, opuštanje krvnih sudova i opšte funkcionisanje organizma.Zvuk gonga utiče na moždane talase\, uvodeći ih u alfa i teta stanja svesti – prostore duboke relaksacije\, regeneracije i kreativne obnove. Kada um i telo borave u ovom stanju\, stvaraju se uslovi za prirodnu harmonizaciju i jačanje vitalnosti.Aromaterapija – Palo Santo uljeTokom tretmana koristi se i aromaterapija sa eteričnim uljem Palo Santa\, poznatim po svom toplom\, smirujućem i pročišćavajućem mirisu. Njegovi benefiti uključuju:– umirivanje nervnog sistema– oslobađanje emocionalne napetosti– stvaranje osećaja sigurnosti i prizemljenosti– podršku meditativnom i introspektivnom stanju– energetsko pročišćavanje prostora i atmosfereKombinacija zvuka i mirisa dodatno produbljuje iskustvo opuštanja i unutrašnje obnove.Čaj ili ceremonijalni kakaoU skladu sa temom susreta\, koja se određuje prema astrološkim kretanjima i energiji dana\, učesnicima se može ponuditi pažljivo odabran biljni čaj ili ceremonijalni kakao.Čaj donosi lagano umirenje i pročišćenje\, dok kakao otvara prostor topline\, povezivanja i rada sa emocijama i srcem.Zašto gong?Gong je drevni instrument čiji zvuk ne deluje samo kao muzika već kao vibraciono iskustvo koje utiče na telo\, emocije i svest\, vodeći učesnike ka unutrašnjem balansu i regeneraciji.Kako da učestvujeteBroj mesta je ograničen.Učešće iznosi 20 eura ili 2400 dinara. \n\n\nKako da učestvujete\nBroj mesta na tretmanu je ograničen\, a učešće je 20 € ili 2400 dinara.  Sve prijave slati ovde . \nPovedite prijatelja ili člana porodice i podelite ovo iskustvo dubokog mira i isceljenja. \nSrdačno\,Ivan Curandero
URL:https://curandero.love/sr/event/zvucno-putovanje-sound-journey-20/
LOCATION:Curandero.center\, Karađorđev trg 9\, Belgrade\, Belgrade\, 11080\, Serbia
ORGANIZER;CN="Ivan Nikitovic":MAILTO:curandero.shop@gmail.com
END:VEVENT
END:VCALENDAR